BEGIN:VCALENDAR
VERSION:2.0
PRODID:-//South Carolina Association of CPAs - ECPv6.15.20//NONSGML v1.0//EN
CALSCALE:GREGORIAN
METHOD:PUBLISH
X-WR-CALNAME:South Carolina Association of CPAs
X-ORIGINAL-URL:https://sc.cpa
X-WR-CALDESC:Events for South Carolina Association of CPAs
REFRESH-INTERVAL;VALUE=DURATION:PT1H
X-Robots-Tag:noindex
X-PUBLISHED-TTL:PT1H
BEGIN:VTIMEZONE
TZID:America/Detroit
BEGIN:DAYLIGHT
TZOFFSETFROM:-0500
TZOFFSETTO:-0400
TZNAME:EDT
DTSTART:20240310T070000
END:DAYLIGHT
BEGIN:STANDARD
TZOFFSETFROM:-0400
TZOFFSETTO:-0500
TZNAME:EST
DTSTART:20241103T060000
END:STANDARD
BEGIN:DAYLIGHT
TZOFFSETFROM:-0500
TZOFFSETTO:-0400
TZNAME:EDT
DTSTART:20250309T070000
END:DAYLIGHT
BEGIN:STANDARD
TZOFFSETFROM:-0400
TZOFFSETTO:-0500
TZNAME:EST
DTSTART:20251102T060000
END:STANDARD
BEGIN:DAYLIGHT
TZOFFSETFROM:-0500
TZOFFSETTO:-0400
TZNAME:EDT
DTSTART:20260308T070000
END:DAYLIGHT
BEGIN:STANDARD
TZOFFSETFROM:-0400
TZOFFSETTO:-0500
TZNAME:EST
DTSTART:20261101T060000
END:STANDARD
BEGIN:DAYLIGHT
TZOFFSETFROM:-0500
TZOFFSETTO:-0400
TZNAME:EDT
DTSTART:20270314T070000
END:DAYLIGHT
BEGIN:STANDARD
TZOFFSETFROM:-0400
TZOFFSETTO:-0500
TZNAME:EST
DTSTART:20271107T060000
END:STANDARD
END:VTIMEZONE
BEGIN:VEVENT
DTSTART;TZID=America/Detroit:20260113T120000
DTEND;TZID=America/Detroit:20260113T125000
DTSTAMP:20260422T052904
CREATED:20250331T205413Z
LAST-MODIFIED:20260112T104213Z
UID:10004329-1768305600-1768308600@sc.cpa
SUMMARY:(LIAA28/26) Risk Assessment - A Common Deficiency
DESCRIPTION:Event Description\nThe AICPA has determined that 1 in 10 firms are not compliant with the risk assessment standards. This course will discuss how to properly identify risks and assess risks under AU-C 315. We will then review how to respond to identified risks under AU-C 330. The course will focus on the inherent risk model. We will also review common deficiencies and how a proper risk assessment can drive a more efficient and effective audit.  \nObjectives\nUpon completing this course\, learners will be able to: \n\nRecognize the audit risk model \nPerform risk assessment procedures compliant with the audit standards
URL:https://sc.cpa/event/liaa28-26-risk-assessment-a-common-deficiency/
CATEGORIES:Livestream
ORGANIZER;CN="Melisa Galasso":MAILTO:melisa@galassolearningsolutions.com
END:VEVENT
BEGIN:VEVENT
DTSTART;TZID=America/Detroit:20251209T130000
DTEND;TZID=America/Detroit:20251209T144000
DTSTAMP:20260422T052904
CREATED:20250331T205312Z
LAST-MODIFIED:20251208T203918Z
UID:10004314-1765285200-1765291200@sc.cpa
SUMMARY:(LIAA25/26) 2025 EBP Update: Standards\, Compliance\, and Best Practices
DESCRIPTION:Event Description\nA significant amount of information is electronically initiated\, recorded\, processed\, or reported\, and information to be used as audit evidence may be available only in electronic form. During this session we will look at different types of information commonly presented to an auditor during the audit of an employee benefit plan\, and identify considerations for auditors when evaluating information to be used as audit evidence. \nObjectives\n\nIdentify types of information obtained during employee benefit plan audits \nRecognize what constitutes audit evidence in accordance with SAS 142\, Audit Evidence \nDetermine if sufficient appropriate audit evidence has been obtained \nIdentify ways in which auditors might document the type\, source\, form\, and procedures performed to information used as audit evidence
URL:https://sc.cpa/event/liaa25-26-2025-ebp-update-standards-compliance-and-best-practices/
CATEGORIES:Livestream
ORGANIZER;CN="Melisa Galasso":MAILTO:melisa@galassolearningsolutions.com
END:VEVENT
BEGIN:VEVENT
DTSTART;TZID=America/Detroit:20251209T083000
DTEND;TZID=America/Detroit:20251209T120000
DTSTAMP:20260422T052904
CREATED:20250331T210221Z
LAST-MODIFIED:20251208T203916Z
UID:10004410-1765269000-1765281600@sc.cpa
SUMMARY:(LIAA24/26) Topic 842 - Implementing Leases Workshop
DESCRIPTION:Event Description\nThis updated course offers an in-depth look at the FASB leases standard (ASC 842)\, which requires organizations to recognize lease assets and liabilities on the balance sheet. This comprehensive course will cover recognition\, measurement\, presentation\, and disclosure requirements\, while also focusing on a critical area of change which is the proper identification of a lease using a principles-based approach. We will discuss implementation requirements from both the lessee and lessor accounting models. \nIn addition\, we explore a variety of scenarios\, including short-term leases\, purchase options\, variable lease payments\, and re-measurement. This course offers practical journal entry examples and lessons learned from implementation\, while exploring recently issued amendments to the lease accounting guidance. \nObjectives\nUpon completing this course\, learners will be able to: \n\nRecall the definition of a lease under ASC 842 \nApply recognition and measurement requirements of ASC 842 \nRecognize the presentation and disclosure requirements of the new leases standard \nPrepare journal entries necessary to account for leases as both a lessee and lessor
URL:https://sc.cpa/event/liaa24-26-topic-842-implementing-leases-workshop/
CATEGORIES:Livestream
ORGANIZER;CN="Melisa Galasso":MAILTO:melisa@galassolearningsolutions.com
END:VEVENT
BEGIN:VEVENT
DTSTART;TZID=America/Detroit:20251120T080000
DTEND;TZID=America/Detroit:20251121T165000
DTSTAMP:20260422T052904
CREATED:20250505T143510Z
LAST-MODIFIED:20251119T204012Z
UID:10004992-1763625600-1763743800@sc.cpa
SUMMARY:(CN4110/26) Fall Fest Accounting Conference
DESCRIPTION:Event Description\nFall Fest\, one of SCACPA’s 2 conferences\, features sessions along 5 different tracks over 2 days. Tracks include Tax\, Accounting & Auditing\, Industry\, Non-Profit\, and Variety. Fall Fest is renowned for the largest in-person gathering of CPAs in the state. It also features the New CPA Oath Ceremony\, the Educational Fund Scholarship Recognition Luncheon\, prime networking opportunities\, and a variety of exhibitors to solve your business needs.  \n  \n  \nDesigned For\n 
URL:https://sc.cpa/event/cn4110-26-fall-fest-accounting-conference/
LOCATION:Columbia Metropolitan Convention Center\, 1101 Lincoln St\, Columbia\, SC\, United States
CATEGORIES:In-Person
ORGANIZER;CN="Charles E. Brown%2C CPA":MAILTO:ebrown@swaimbrown.com
END:VEVENT
BEGIN:VEVENT
DTSTART;TZID=America/Detroit:20251015T130000
DTEND;TZID=America/Detroit:20251015T163000
DTSTAMP:20260422T052904
CREATED:20250331T205419Z
LAST-MODIFIED:20251014T162910Z
UID:10004332-1760533200-1760545800@sc.cpa
SUMMARY:(LIAA17/26) All About Fraud - Examples\, Prevention and Auditing
DESCRIPTION:Event Description\nStay ahead of the latest trends and threats in fraud with this comprehensive 4-credit hour CPE course. This course provides an in-depth analysis of the findings from the global fraud report\, helping professionals understand key fraud schemes\, emerging patterns\, and their impact on businesses worldwide. Designed for CPAs\, auditors\, and financial professionals\, this course will equip you with practical tools and actionable insights to detect\, prevent\, and respond to fraud. Participants will explore real-world case studies\, regulatory updates\, and best practices in fraud risk management\, all while earning valuable Continuing Professional Education credits. Join us for a critical review of the fraud landscape and ensure your skills and knowledge remain current in this rapidly evolving field. Gain the confidence to safeguard your organization or clients from the latest fraud risks and take a proactive stance in fighting fraud. \nObjectives\n\nUnderstand Current Fraud Trends: Analyze and interpret the key findings from the 2024 global fraud report\, with a focus on common schemes\, emerging threats\, and their global impact. \nFraud Detection and Prevention: Learn effective strategies and techniques for identifying red flags of fraud within an organization\, and how to implement preventive measures to mitigate risk. \nRegulatory and Legal Updates: Stay up-to-date with the latest legal and regulatory developments related to fraud and financial misconduct to ensure compliance and protect your organization. \nReal-World Case Studies: Review detailed case studies of high-profile fraud incidents to identify lessons learned and best practices that can be applied to real-world situations. \nRisk Management Strategies: Develop and apply robust fraud risk management techniques to protect financial assets\, maintain corporate integrity\, and support ethical business practices. \nEnhance Professional Competence: Earn 4 CPE credits while enhancing your expertise in the critical area of fraud detection\, response\, and prevention\, positioning yourself as a valuable asset in your organization.
URL:https://sc.cpa/event/liaa17-26-all-about-fraud-examples-prevention-and-auditing/
CATEGORIES:Livestream
ORGANIZER;CN="Melisa Galasso":MAILTO:melisa@galassolearningsolutions.com
END:VEVENT
BEGIN:VEVENT
DTSTART;TZID=America/Detroit:20250930T083000
DTEND;TZID=America/Detroit:20250930T120000
DTSTAMP:20260422T052904
CREATED:20250331T210007Z
LAST-MODIFIED:20250929T162006Z
UID:10004381-1759221000-1759233600@sc.cpa
SUMMARY:(LIAA14/26) Common Yellow Book & Single Audit Deficiencies
DESCRIPTION:Event Description\nThis course will review focus areas for peer review of Single Audits and Yellow Book engagements. We discuss the requirements for major program determination\, testing compliance\, testing internal controls over compliance\, sampling\, and reporting for Single Audits. We also address Yellow Book CPE and independence requirements. In addition to providing an overview of the common deficiencies and key trends identified by the AICPA\, this course will also provide best practices for how entities can properly perform procedures in these areas. \nObjectives\n\nRecognize CPE requirements for Yellow Book engagements \nPerform a major program determination compliant with the Uniform Guidance \nProperly identify internal controls over compliance \nIdentify compliance requirements in the Uniform Guidance \nRecognize the control risk and internal controls over compliance \nIdentify the reporting requirements for Single Audits \nProperly perform sampling under the Uniform Guidance \nRecognize common audit deficiencies \nRecognize the independence requirements for Yellow Book
URL:https://sc.cpa/event/liaa14-26-common-yellow-book-single-audit-deficiencies/
CATEGORIES:Livestream
ORGANIZER;CN="Melisa Galasso":MAILTO:melisa@galassolearningsolutions.com
END:VEVENT
BEGIN:VEVENT
DTSTART;TZID=America/Detroit:20250910T083000
DTEND;TZID=America/Detroit:20250910T144000
DTSTAMP:20260422T052904
CREATED:20250401T024820Z
LAST-MODIFIED:20250909T163514Z
UID:10004983-1757493000-1757515200@sc.cpa
SUMMARY:(LIAA13/26) Annual Update for Accountants & Auditors
DESCRIPTION:Event Description\nThis course will look at the recent activities of FASB. We’ll cover standards effective in the current year as well as those that will be effective in the future. We’ll then switch gears and discuss standards issued by the Auditing Standards Board impacting audit engagements. We’ll look at the impact of the new standards and how you can prepare to implement them in a practical way. \nObjectives\n\nDescribe recently issued changes to US GAAP \nList ASUs coming down the pike \nRecall the impact of quality management on firms \nIdentify changes to risk assessment in SAS 145
URL:https://sc.cpa/event/liaa13-26-annual-update-for-accountants-auditors-2/
CATEGORIES:Livestream
ORGANIZER;CN="Melisa Galasso":MAILTO:melisa@galassolearningsolutions.com
END:VEVENT
BEGIN:VEVENT
DTSTART;TZID=America/Detroit:20250909T130000
DTEND;TZID=America/Detroit:20250909T153000
DTSTAMP:20260422T052904
CREATED:20250331T210218Z
LAST-MODIFIED:20250908T162008Z
UID:10004408-1757422800-1757431800@sc.cpa
SUMMARY:(LIAA12/26) Accounting & Auditing Update
DESCRIPTION:Event Description\nThis course will look at the recent activities of FASB. We’ll cover standards effective in the current year as well as those that will be effective in the future. We’ll then switch gears and discuss standards issued by the Auditing Standards Board impacting audit engagements. We’ll look at the impact of the new standards and how you can prepare to implement them in a practical way. \nObjectives\n\nDescribe recently issued changes to US GAAP \nList ASUs coming down the pike \nRecall the impact of quality management on firms \nIdentify changes to risk assessment in SAS 145
URL:https://sc.cpa/event/liaa12-26-accounting-auditing-update/
CATEGORIES:Livestream
ORGANIZER;CN="Melisa Galasso":MAILTO:melisa@galassolearningsolutions.com
END:VEVENT
BEGIN:VEVENT
DTSTART;TZID=America/Detroit:20250902T083000
DTEND;TZID=America/Detroit:20250902T101000
DTSTAMP:20260422T052904
CREATED:20250331T205210Z
LAST-MODIFIED:20250901T203507Z
UID:10004303-1756801800-1756807800@sc.cpa
SUMMARY:(LIAA09/26) Introduction to Not-for-Profit Accounting
DESCRIPTION:Event Description\nNot-for-profit organizations encounter distinct accounting complexities. This course provides an introduction to the financial statements and specialized accounting principles relevant to nonprofits. Attendees will explore key topics such as net assets\, agency transactions\, contributions\, and endowments\, focusing on the unique transactions and account balances that define not-for-profit accounting. \nObjectives\n\nRecall the unique accounting principles and transactions applicable to NFP organizations \nIdentify the basic financial statements of nonprofit organizations \nRecall the accounting for contributions \nIdentify net asset classifications for nonprofit organizations \nIdentify agency transactions
URL:https://sc.cpa/event/liaa09-26-introduction-to-not-for-profit-accounting/
CATEGORIES:Livestream
ORGANIZER;CN="Melisa Galasso":MAILTO:melisa@galassolearningsolutions.com
END:VEVENT
BEGIN:VEVENT
DTSTART;TZID=America/Detroit:20250827T130000
DTEND;TZID=America/Detroit:20250827T135000
DTSTAMP:20260422T052904
CREATED:20250611T142009Z
LAST-MODIFIED:20250826T163509Z
UID:10005549-1756299600-1756302600@sc.cpa
SUMMARY:(LIAA35/26) Internal Controls Over Compliance vs Compliance - 2025
DESCRIPTION:Event Description\nAccurately identifying and testing controls over compliance is critical\, yet it remains a common deficiency highlighted in peer reviews. This course offers a comprehensive overview of internal controls over compliance\, with a focus on their application to Single Audits. Participants will learn how to effectively align internal controls with specific compliance requirements. Additionally\, we will address one of the most frequent findings in audits of governmental entities receiving federal grants: the misidentification of controls and the confusion between compliance and control processes. This course will help clarify the distinction\, equipping you with the tools to enhance audit quality and ensure compliance effectiveness. \nObjectives\n\nIdentify internal controls over compliance for a given compliance requirement \nRecognize compliance requirements per the Compliance Supplement \nIdentify an audit procedure to test the operating effectiveness of a given control
URL:https://sc.cpa/event/liaa35-26-internal-controls-over-compliance-vs-internal-controls-over-compliance-vs/
CATEGORIES:Livestream
ORGANIZER;CN="Melisa Galasso":MAILTO:melisa@galassolearningsolutions.com
END:VEVENT
BEGIN:VEVENT
DTSTART;TZID=America/Detroit:20250820T083000
DTEND;TZID=America/Detroit:20250820T101000
DTSTAMP:20260422T052904
CREATED:20250331T205124Z
LAST-MODIFIED:20250819T163513Z
UID:10004299-1755678600-1755684600@sc.cpa
SUMMARY:(LIET03/26) Independence Requirements for Auditors
DESCRIPTION:Event Description\nCPAs in public practice are required to maintain independence. In this course\, we will discuss concepts associated with independence and review the rules from the AICPA Code of Professional Conduct with a focus on their practical application. We will also review the recently issued ethics interpretations from the Professional Ethics Executive Committee (PEEC)\, which impact independence\, and discuss practical methods of implementation.  \nObjectives\nUpon completing this course\, learners will be able to: \n\nIdentify types of controls \nRecall information on control best practices
URL:https://sc.cpa/event/liet03-26-independence-requirements-for-auditors/
CATEGORIES:Livestream
ORGANIZER;CN="Melisa Galasso":MAILTO:melisa@galassolearningsolutions.com
END:VEVENT
BEGIN:VEVENT
DTSTART;TZID=America/Detroit:20250812T102000
DTEND;TZID=America/Detroit:20250812T120000
DTSTAMP:20260422T052904
CREATED:20250331T210125Z
LAST-MODIFIED:20250811T233509Z
UID:10004400-1754994000-1755000000@sc.cpa
SUMMARY:(LIAA06/26) Introduction to Governmental Accounting
DESCRIPTION:Event Description\nGovernmental accounting is very unique. This course will introduce the financial reporting basics for governments\, including fund accounting and the modified accrual basis of accounting. Attendees will analyze the layouts of the fund financial statements as well as the government-wide financial statements. The course will also cover the concept of component units\, Management Discussion & Analysis (MD&A)\, and the Annual Comprehensive Financial Report. \nObjectives\n\nDescribe the unique accounting principles and transactions applicable to governmental entities.
URL:https://sc.cpa/event/liaa06-26-introduction-to-governmental-accounting/
CATEGORIES:Livestream
ORGANIZER;CN="Melisa Galasso":MAILTO:melisa@galassolearningsolutions.com
END:VEVENT
BEGIN:VEVENT
DTSTART;TZID=America/Detroit:20250730T130000
DTEND;TZID=America/Detroit:20250730T153000
DTSTAMP:20260422T052904
CREATED:20250529T183509Z
LAST-MODIFIED:20250729T163507Z
UID:10005001-1753880400-1753889400@sc.cpa
SUMMARY:(LIAA34/26) What's Going on at the FASB
DESCRIPTION:Event Description\nThe course will start with the Accounting Standard Updates effective in 2025 for public entities\, private entities\, and nonprofits. We will also review year 2 implications of the leases standard including modification accounting. We will then switch our attention to the items coming down the pike\, including a look at the projects identified by the FASB’s Invitation to Comment: Agenda Consultation. \nObjectives\n\nIdentify the impact of ASUs that are effective in 2025 on financial reporting \nDescribe the impact of the lease modification on financial reporting \nIdentify FASB ASUs that will be effective after 2025
URL:https://sc.cpa/event/liaa34-26-whats-going-on-at-the-fasb/
CATEGORIES:Livestream
ORGANIZER;CN="Melisa Galasso":MAILTO:melisa@galassolearningsolutions.com
END:VEVENT
BEGIN:VEVENT
DTSTART;TZID=America/Detroit:20250710T102000
DTEND;TZID=America/Detroit:20250710T120000
DTSTAMP:20260422T052904
CREATED:20250331T205704Z
LAST-MODIFIED:20250709T162010Z
UID:10004348-1752142800-1752148800@sc.cpa
SUMMARY:(LIAA02/26) Governmental GAAP Update
DESCRIPTION:Event Description\nThis course begins with a look at the GASB standards effective this year\, including GASB 100\, Accounting Changes and Error Corrections and GASB 101\, Compensated Absences. We’ll include practical application of the topics in the form of case studies. \nObjectives\n\nRecall the impact of GASB 100 and 101 on financial reporting for governments Recall the impact of standards effective in 2025
URL:https://sc.cpa/event/liaa02-26-governmental-gaap-update/
CATEGORIES:Livestream
ORGANIZER;CN="Melisa Galasso":MAILTO:melisa@galassolearningsolutions.com
END:VEVENT
BEGIN:VEVENT
DTSTART;TZID=America/Detroit:20250625T083000
DTEND;TZID=America/Detroit:20250625T111000
DTSTAMP:20260422T052904
CREATED:20250401T013510Z
LAST-MODIFIED:20250624T163606Z
UID:10004982-1750840200-1750849800@sc.cpa
SUMMARY:(LIAA17/25) What's Going on at the GASB
DESCRIPTION:Event Description\nThe GASB has been working on some big projects lately. This course starts with a look at the GASB standards effective this year\, including GASB 94\, Public Private Partnerships and GASB 96\, Subscription Based IT Arrangements. We will include practical applications in the form of case studies to apply the topics. We will then switch gears to the GASB standards coming down the pike\, including the major projects of the GASB.
URL:https://sc.cpa/event/liaa17-25-whats-going-on-at-the-gasb/
CATEGORIES:Livestream
ORGANIZER;CN="Melisa Galasso":MAILTO:melisa@galassolearningsolutions.com
END:VEVENT
BEGIN:VEVENT
DTSTART;TZID=America/Detroit:20250617T130000
DTEND;TZID=America/Detroit:20250617T163000
DTSTAMP:20260422T052904
CREATED:20250401T011314Z
LAST-MODIFIED:20250616T162009Z
UID:10004974-1750165200-1750177800@sc.cpa
SUMMARY:(LIAA16/25) Not-for-Profit Accounting & Auditing Update
DESCRIPTION:Event Description\nThe Not-for-Profit Advisory Committee has been busy discussing several projects that the FASB is working on and their impact on nonprofits. In this course\, we will review the key issues and discussions from recent NAC meetings. We’ll also take a look at ASUs issued by the FASB that may impact nonprofit financial statements. After a break\, we then transition from accounting to auditing with a look at the common deficiencies found in nonprofit Yellow Book audits with a focus on CPE\, reporting\, and independence.
URL:https://sc.cpa/event/liaa16-25-not-for-profit-accounting-auditing-update/
CATEGORIES:Livestream
ORGANIZER;CN="Melisa Galasso":MAILTO:melisa@galassolearningsolutions.com
END:VEVENT
BEGIN:VEVENT
DTSTART;TZID=America/Detroit:20250605T083000
DTEND;TZID=America/Detroit:20250605T120000
DTSTAMP:20260422T052904
CREATED:20250401T010914Z
LAST-MODIFIED:20250604T203507Z
UID:10004971-1749112200-1749124800@sc.cpa
SUMMARY:(LIAA15/25) What's Changing in A&A for Government Entities
DESCRIPTION:Event Description\nThis course will start with the GASB standards effective in 2024\, focusing on GASB 94\, Public Private Partnerships and GASB 96\, Subscription Based IT Arrangements. We will then switch to the audit side of the house to examine the impact of the 2024 Compliance Supplement on Single Audits. We close with a look at common deficiencies found in audits of COVID-related funding.
URL:https://sc.cpa/event/liaa15-25-whats-changing-in-aa-for-government-entities/
CATEGORIES:Livestream
ORGANIZER;CN="Melisa Galasso":MAILTO:melisa@galassolearningsolutions.com
END:VEVENT
BEGIN:VEVENT
DTSTART;TZID=America/Detroit:20250529T130000
DTEND;TZID=America/Detroit:20250529T163000
DTSTAMP:20260422T052904
CREATED:20250401T005709Z
LAST-MODIFIED:20250528T162008Z
UID:10004969-1748523600-1748536200@sc.cpa
SUMMARY:(LIAA14/25) What's Going on at the FASB
DESCRIPTION:Event Description\nThe course will start with the Accounting Standard Updates effective in 2024 for public entities\, private entities\, and nonprofits. We will also review significant changes to common control lease arrangements issued early in 2024. After a break\, we switch our attention to the items coming down the pike\, including a look at the projects identified by the FASB’s Invitation to Comment: Agenda Consultation.
URL:https://sc.cpa/event/liaa14-25-whats-going-on-at-the-fasb/
CATEGORIES:Livestream
ORGANIZER;CN="Melisa Galasso":MAILTO:melisa@galassolearningsolutions.com
END:VEVENT
BEGIN:VEVENT
DTSTART;TZID=America/Detroit:20250522T130000
DTEND;TZID=America/Detroit:20250522T163000
DTSTAMP:20260422T052904
CREATED:20250331T224927Z
LAST-MODIFIED:20250521T203506Z
UID:10004686-1747918800-1747931400@sc.cpa
SUMMARY:(LIAA13/25) Common Yellow Book & Single Audit Deficiencies
DESCRIPTION:Event Description\nYellow Book and Single Audit engagements are considered must-select engagements for peer review. This course will review the common deficiencies noted by peer reviewers and federal agencies. We’ll focus on the requirements of Yellow Book independence\, CPE\, and reporting. We will also review deficiencies related to internal controls over compliance\, compliance testing\, and major program determination for Single Audits. We’ll close the course with a look at the deficiencies often identified in COVI D-related funds. \nObjectives\n\nIdentify common deficiencies in Yellow Book Engagements \nRecall the independence requirements in Yellow Book \nIdentify common single audit deficiencies \nRecall common deficiencies found related to COVID-19 funding
URL:https://sc.cpa/event/liaa13-25-common-yellow-book-single-audit-deficiencies/
CATEGORIES:Livestream
ORGANIZER;CN="Melisa Galasso":MAILTO:melisa@galassolearningsolutions.com
END:VEVENT
BEGIN:VEVENT
DTSTART;TZID=America/Detroit:20250515T080000
DTEND;TZID=America/Detroit:20250516T164500
DTSTAMP:20260422T052904
CREATED:20250331T205525Z
LAST-MODIFIED:20250514T162023Z
UID:10004336-1747296000-1747413900@sc.cpa
SUMMARY:(CN4113/25) Spring Splash Accounting Conference
DESCRIPTION:Event Description\nSpring Splash\, one of SCACPA’s 2 conferences\, features sessions along 5 different tracks over 2 days. Tracks include Tax\, Accounting & Auditing\, Industry\, and Non-Profit/Government. Spring Splash is a large\, in-person gathering of CPAs in the state. It also features the New CPA Oath Ceremony\, prime networking opportunities\, and a variety of exhibitors to solve your business needs.  \n 
URL:https://sc.cpa/event/cn4113-25-spring-splash-accounting-conference-charleston-sc/
LOCATION:Embassy Suites by North Charleston\, 5055 International Blvd\, North Charleston\, SC\, United States
CATEGORIES:In-Person
ORGANIZER;CN="J. William Strickland%2C CPA%2C MBA%2C JD":MAILTO:wstrickland@jwspa.com
END:VEVENT
END:VCALENDAR