BEGIN:VCALENDAR
VERSION:2.0
PRODID:-//South Carolina Association of CPAs - ECPv6.15.20//NONSGML v1.0//EN
CALSCALE:GREGORIAN
METHOD:PUBLISH
X-WR-CALNAME:South Carolina Association of CPAs
X-ORIGINAL-URL:https://sc.cpa
X-WR-CALDESC:Events for South Carolina Association of CPAs
REFRESH-INTERVAL;VALUE=DURATION:PT1H
X-Robots-Tag:noindex
X-PUBLISHED-TTL:PT1H
BEGIN:VTIMEZONE
TZID:America/Detroit
BEGIN:DAYLIGHT
TZOFFSETFROM:-0500
TZOFFSETTO:-0400
TZNAME:EDT
DTSTART:20240310T070000
END:DAYLIGHT
BEGIN:STANDARD
TZOFFSETFROM:-0400
TZOFFSETTO:-0500
TZNAME:EST
DTSTART:20241103T060000
END:STANDARD
BEGIN:DAYLIGHT
TZOFFSETFROM:-0500
TZOFFSETTO:-0400
TZNAME:EDT
DTSTART:20250309T070000
END:DAYLIGHT
BEGIN:STANDARD
TZOFFSETFROM:-0400
TZOFFSETTO:-0500
TZNAME:EST
DTSTART:20251102T060000
END:STANDARD
BEGIN:DAYLIGHT
TZOFFSETFROM:-0500
TZOFFSETTO:-0400
TZNAME:EDT
DTSTART:20260308T070000
END:DAYLIGHT
BEGIN:STANDARD
TZOFFSETFROM:-0400
TZOFFSETTO:-0500
TZNAME:EST
DTSTART:20261101T060000
END:STANDARD
END:VTIMEZONE
BEGIN:VEVENT
DTSTART;TZID=America/Detroit:20250909T083000
DTEND;TZID=America/Detroit:20250909T120000
DTSTAMP:20260424T153257
CREATED:20250331T210223Z
LAST-MODIFIED:20250908T173509Z
UID:10004411-1757406600-1757419200@sc.cpa
SUMMARY:(LIMG09/26) Seeing Beyond the Numbers: Financial Statement Analysis for CFOs & Controllers
DESCRIPTION:Event Description\nFinancial statements are a crucial window into the daily operations and overall health of a company. They reveal the strengths and weaknesses that define the organization’s financial standing. However\, the interpretation of financial statements can vary widely depending on the user’s perspective. This course is designed to help you refine your financial statement analysis skills and gain insights that will enable you to better understand and communicate your company’s financial performance. \nObjectives\n\nIndicate how different stakeholders utilize financial statements \nRecognize how flexible budgeting may be used by CFOs and Controllers \nRecall how time series analysis and common size financial statements are used in trend analysis \nCalculate liquidity\, leverage\, and profitability ratios \nIdentify the uses and limitations of ratio analysis
URL:https://sc.cpa/event/limg09-26-seeing-beyond-the-numbers-financial-statement-analysis-for-cfos-controllers/
CATEGORIES:Livestream
ORGANIZER;CN="David R. Peters%2C CPA%2C CFP%2C CLU%2C CPCU":MAILTO:david@petersprofessionaleducation.com
END:VEVENT
END:VCALENDAR