BEGIN:VCALENDAR
VERSION:2.0
PRODID:-//South Carolina Association of CPAs - ECPv6.15.20//NONSGML v1.0//EN
CALSCALE:GREGORIAN
METHOD:PUBLISH
X-WR-CALNAME:South Carolina Association of CPAs
X-ORIGINAL-URL:https://sc.cpa
X-WR-CALDESC:Events for South Carolina Association of CPAs
REFRESH-INTERVAL;VALUE=DURATION:PT1H
X-Robots-Tag:noindex
X-PUBLISHED-TTL:PT1H
BEGIN:VTIMEZONE
TZID:America/Detroit
BEGIN:DAYLIGHT
TZOFFSETFROM:-0500
TZOFFSETTO:-0400
TZNAME:EDT
DTSTART:20240310T070000
END:DAYLIGHT
BEGIN:STANDARD
TZOFFSETFROM:-0400
TZOFFSETTO:-0500
TZNAME:EST
DTSTART:20241103T060000
END:STANDARD
BEGIN:DAYLIGHT
TZOFFSETFROM:-0500
TZOFFSETTO:-0400
TZNAME:EDT
DTSTART:20250309T070000
END:DAYLIGHT
BEGIN:STANDARD
TZOFFSETFROM:-0400
TZOFFSETTO:-0500
TZNAME:EST
DTSTART:20251102T060000
END:STANDARD
BEGIN:DAYLIGHT
TZOFFSETFROM:-0500
TZOFFSETTO:-0400
TZNAME:EDT
DTSTART:20260308T070000
END:DAYLIGHT
BEGIN:STANDARD
TZOFFSETFROM:-0400
TZOFFSETTO:-0500
TZNAME:EST
DTSTART:20261101T060000
END:STANDARD
END:VTIMEZONE
BEGIN:VEVENT
DTSTART;TZID=America/Detroit:20250902T102000
DTEND;TZID=America/Detroit:20250902T120000
DTSTAMP:20260424T192456
CREATED:20250331T205221Z
LAST-MODIFIED:20250901T233508Z
UID:10004309-1756808400-1756814400@sc.cpa
SUMMARY:(LIMG07/26) A Controller's Guide to Assessing the Risk of Your Organization: Coverages and Exclusions for Basic Business Policies
DESCRIPTION:Event Description\nPart of being a CFO or Controller is protecting the assets of the organization and managing risk. While many financial leaders feel comfortable with the strategic aspect of this task\, finding the right insurance coverages can leave one feeling out of their element. This course will focus on three common business policies – the package policy\, the business & property policy\, and the cyber policy. Through case studies and illustrative examples\, we will explore what these policies cover\, as well as what they don’t cover. We will also discuss how to have more productive conversations with outside insurance brokers. \nObjectives\n\nIdentify the basic parts of a P&C insurance policy \nRecognize the basic approach to building an insurance program for a company \nState the coverages and exclusions for commercial package\, building & property\, and cyber insurance policies \nIdentify techniques to building a better partnership with outside insurance brokers Topics
URL:https://sc.cpa/event/limg07-26-a-controllers-guide-to-assessing-the-risk-of-your-organization-coverages-and-exclusions-for-basic-business-policies/
CATEGORIES:Livestream
ORGANIZER;CN="David R. Peters%2C CPA%2C CFP%2C CLU%2C CPCU":MAILTO:david@petersprofessionaleducation.com
END:VEVENT
END:VCALENDAR