BEGIN:VCALENDAR
VERSION:2.0
PRODID:-//South Carolina Association of CPAs - ECPv6.15.20//NONSGML v1.0//EN
CALSCALE:GREGORIAN
METHOD:PUBLISH
X-ORIGINAL-URL:https://sc.cpa
X-WR-CALDESC:Events for South Carolina Association of CPAs
REFRESH-INTERVAL;VALUE=DURATION:PT1H
X-Robots-Tag:noindex
X-PUBLISHED-TTL:PT1H
BEGIN:VTIMEZONE
TZID:America/Detroit
BEGIN:DAYLIGHT
TZOFFSETFROM:-0500
TZOFFSETTO:-0400
TZNAME:EDT
DTSTART:20240310T070000
END:DAYLIGHT
BEGIN:STANDARD
TZOFFSETFROM:-0400
TZOFFSETTO:-0500
TZNAME:EST
DTSTART:20241103T060000
END:STANDARD
BEGIN:DAYLIGHT
TZOFFSETFROM:-0500
TZOFFSETTO:-0400
TZNAME:EDT
DTSTART:20250309T070000
END:DAYLIGHT
BEGIN:STANDARD
TZOFFSETFROM:-0400
TZOFFSETTO:-0500
TZNAME:EST
DTSTART:20251102T060000
END:STANDARD
BEGIN:DAYLIGHT
TZOFFSETFROM:-0500
TZOFFSETTO:-0400
TZNAME:EDT
DTSTART:20260308T070000
END:DAYLIGHT
BEGIN:STANDARD
TZOFFSETFROM:-0400
TZOFFSETTO:-0500
TZNAME:EST
DTSTART:20261101T060000
END:STANDARD
END:VTIMEZONE
BEGIN:VEVENT
DTSTART;TZID=America/Detroit:20250806T083000
DTEND;TZID=America/Detroit:20250806T120000
DTSTAMP:20260424T173743
CREATED:20250331T210319Z
LAST-MODIFIED:20250805T163508Z
UID:10004421-1754469000-1754481600@sc.cpa
SUMMARY:(LIMG06/26) Building a Better Budget in a Time of Uncertainty
DESCRIPTION:Event Description\nThrough a combination of theory and real-world examples\, we will explore how to build flexibility into our budget – so that it can inform and drive decision-making when we don’t quite know what is ahead. \nObjectives\n\nRecall the difference between a forecast and a budget \nIdentify the difference between top-down and bottom-up budgeting \nState the key elements of a flexible budgeting approach \nDefine key cost drivers \nState how behavioral biases may affect the budgeting process \nIdentify how headcount efficiency may be measured \nDefine scenario planning \nRecognize best practices and controls for managing budget changes
URL:https://sc.cpa/event/limg06-26-building-a-better-budget-in-a-time-of-uncertainty/
CATEGORIES:Livestream
ORGANIZER;CN="David R. Peters%2C CPA%2C CFP%2C CLU%2C CPCU":MAILTO:david@petersprofessionaleducation.com
END:VEVENT
END:VCALENDAR