BEGIN:VCALENDAR
VERSION:2.0
PRODID:-//South Carolina Association of CPAs - ECPv6.15.20//NONSGML v1.0//EN
CALSCALE:GREGORIAN
METHOD:PUBLISH
X-ORIGINAL-URL:https://sc.cpa
X-WR-CALDESC:Events for South Carolina Association of CPAs
REFRESH-INTERVAL;VALUE=DURATION:PT1H
X-Robots-Tag:noindex
X-PUBLISHED-TTL:PT1H
BEGIN:VTIMEZONE
TZID:America/Detroit
BEGIN:DAYLIGHT
TZOFFSETFROM:-0500
TZOFFSETTO:-0400
TZNAME:EDT
DTSTART:20250309T070000
END:DAYLIGHT
BEGIN:STANDARD
TZOFFSETFROM:-0400
TZOFFSETTO:-0500
TZNAME:EST
DTSTART:20251102T060000
END:STANDARD
BEGIN:DAYLIGHT
TZOFFSETFROM:-0500
TZOFFSETTO:-0400
TZNAME:EDT
DTSTART:20260308T070000
END:DAYLIGHT
BEGIN:STANDARD
TZOFFSETFROM:-0400
TZOFFSETTO:-0500
TZNAME:EST
DTSTART:20261101T060000
END:STANDARD
BEGIN:DAYLIGHT
TZOFFSETFROM:-0500
TZOFFSETTO:-0400
TZNAME:EDT
DTSTART:20270314T070000
END:DAYLIGHT
BEGIN:STANDARD
TZOFFSETFROM:-0400
TZOFFSETTO:-0500
TZNAME:EST
DTSTART:20271107T060000
END:STANDARD
END:VTIMEZONE
BEGIN:VEVENT
DTSTART;TZID=America/Detroit:20260925T083000
DTEND;TZID=America/Detroit:20260925T092000
DTSTAMP:20260425T075718
CREATED:20260112T202712Z
LAST-MODIFIED:20260116T150437Z
UID:10005600-1790325000-1790328000@sc.cpa
SUMMARY:(LIOT03/27) Servant Leadership
DESCRIPTION:Event Description\nTrue leadership isn’t about authority—it’s about service. In this session\, participants will learn the 10 foundational keys of servant leadership and how to lead with a “service first” mindset while still setting clear expectations\, driving accountability\, and delivering results. You will explore how trust is built through presence\, listening\, and follow through; how to develop others intentionally; how to empower decision making at the right level; and how to create psychological safety and candid communication. This course will strengthen your ability to model humility and integrity while aligning your team around purpose\, culture\, and shared outcomes. \nDesigned For\n•  CPAs\, firm leaders\, managers\, supervisors\, and team leads\n•  Professionals responsible for staff development\, engagement\, culture\, and performance\n•  Emerging leaders seeking a strong leadership philosophy rooted in both empathy and accountability \nObjectives\n•  Explain the 10 keys to servant leadership and how they apply to modern CPA leadership.\n•  Lead with a “service first” mindset while still setting expectations\, reinforcing accountability\, and achieving results.\n•  Build trust by being present\, listening actively\, and consistently following through.\n•  Develop others intentionally through structured guidance\, coaching\, and growth focused conversations.\n•  Empower decision making at the right level to increase ownership\, speed\, and confidence.\n•  Create psychological safety and foster healthy candor within teams.\n•  Model humility and integrity through transparent communication and aligned behavior.\n•  Strengthen team purpose and alignment by clarifying mission\, roles\, and shared priorities. \nMajor Subjects\n•  The 10 Keys to Servant Leadership\n•  Balancing Service First Leadership With Accountability & Results\n•  Trust Building Through Presence\, Listening & Follow Through\n•  Intentional Talent & Leadership Development\n•  Empowerment: Delegating Decision Making at the Right Level\n•  Creating Psychological Safety & Encouraging Healthy Candor\n•  Modeling Humility\, Integrity & Professional Groundedness\n•  Strengthening Team Alignment\, Purpose & Shared Commitment
URL:https://sc.cpa/event/liot03-27-servant-leadership/
CATEGORIES:Livestream
ORGANIZER;CN="Doug Van Dyke%2C MBA%2C CSP":MAILTO:doug@leadershipsimplified.com
END:VEVENT
END:VCALENDAR