BEGIN:VCALENDAR
VERSION:2.0
PRODID:-//South Carolina Association of CPAs - ECPv6.15.20//NONSGML v1.0//EN
CALSCALE:GREGORIAN
METHOD:PUBLISH
X-WR-CALNAME:South Carolina Association of CPAs
X-ORIGINAL-URL:https://sc.cpa
X-WR-CALDESC:Events for South Carolina Association of CPAs
REFRESH-INTERVAL;VALUE=DURATION:PT1H
X-Robots-Tag:noindex
X-PUBLISHED-TTL:PT1H
BEGIN:VTIMEZONE
TZID:America/Detroit
BEGIN:DAYLIGHT
TZOFFSETFROM:-0500
TZOFFSETTO:-0400
TZNAME:EDT
DTSTART:20240310T070000
END:DAYLIGHT
BEGIN:STANDARD
TZOFFSETFROM:-0400
TZOFFSETTO:-0500
TZNAME:EST
DTSTART:20241103T060000
END:STANDARD
BEGIN:DAYLIGHT
TZOFFSETFROM:-0500
TZOFFSETTO:-0400
TZNAME:EDT
DTSTART:20250309T070000
END:DAYLIGHT
BEGIN:STANDARD
TZOFFSETFROM:-0400
TZOFFSETTO:-0500
TZNAME:EST
DTSTART:20251102T060000
END:STANDARD
BEGIN:DAYLIGHT
TZOFFSETFROM:-0500
TZOFFSETTO:-0400
TZNAME:EDT
DTSTART:20260308T070000
END:DAYLIGHT
BEGIN:STANDARD
TZOFFSETFROM:-0400
TZOFFSETTO:-0500
TZNAME:EST
DTSTART:20261101T060000
END:STANDARD
END:VTIMEZONE
BEGIN:VEVENT
DTSTART;TZID=America/Detroit:20250514T100000
DTEND;TZID=America/Detroit:20250514T123000
DTSTAMP:20260423T164246
CREATED:20250331T205708Z
LAST-MODIFIED:20250513T163515Z
UID:10004352-1747216800-1747225800@sc.cpa
SUMMARY:(SRTX0514/25) SC DOR Employer Withholding Tax Workshop
DESCRIPTION:Event Description\nSCDOR is hosting this in person course on Sales Tax laws\, local taxes and more. Registrants are responsible for their registration fee.
URL:https://sc.cpa/event/srtx0514-25-sc-dor-employer-withholding-tax-workshop-in-person/
LOCATION:SC Department of Revenue\, 300 Outlet Pointe Blvd Ste A\, Columbia\, SC\, United States
CATEGORIES:In-Person
END:VEVENT
BEGIN:VEVENT
DTSTART;TZID=America/Detroit:20250514T100000
DTEND;TZID=America/Detroit:20250514T123000
DTSTAMP:20260423T164246
CREATED:20250331T221920Z
LAST-MODIFIED:20250513T163518Z
UID:10004625-1747216800-1747225800@sc.cpa
SUMMARY:(LRTX0514/25) SC DOR Sales Tax Workshop
DESCRIPTION:Event Description\nSC Department of Revenue offers members localized education. Click the course title to register for free on the SCDOR website!
URL:https://sc.cpa/event/lrtx0514-25-sc-dor-sales-tax-workshop-virtual-virtual/
CATEGORIES:Webinar
END:VEVENT
BEGIN:VEVENT
DTSTART;TZID=America/Detroit:20250515T080000
DTEND;TZID=America/Detroit:20250516T164500
DTSTAMP:20260423T164246
CREATED:20250331T205525Z
LAST-MODIFIED:20250514T162023Z
UID:10004336-1747296000-1747413900@sc.cpa
SUMMARY:(CN4113/25) Spring Splash Accounting Conference
DESCRIPTION:Event Description\nSpring Splash\, one of SCACPA’s 2 conferences\, features sessions along 5 different tracks over 2 days. Tracks include Tax\, Accounting & Auditing\, Industry\, and Non-Profit/Government. Spring Splash is a large\, in-person gathering of CPAs in the state. It also features the New CPA Oath Ceremony\, prime networking opportunities\, and a variety of exhibitors to solve your business needs.  \n 
URL:https://sc.cpa/event/cn4113-25-spring-splash-accounting-conference-charleston-sc/
LOCATION:Embassy Suites by North Charleston\, 5055 International Blvd\, North Charleston\, SC\, United States
CATEGORIES:In-Person
ORGANIZER;CN="J. William Strickland%2C CPA%2C MBA%2C JD":MAILTO:wstrickland@jwspa.com
END:VEVENT
BEGIN:VEVENT
DTSTART;TZID=America/Detroit:20250521T100000
DTEND;TZID=America/Detroit:20250521T123000
DTSTAMP:20260423T164246
CREATED:20250401T055631Z
LAST-MODIFIED:20250520T162009Z
UID:10004985-1747821600-1747830600@sc.cpa
SUMMARY:(LRTX0521/25) SC DOR Employer Withholding Tax Workshop
DESCRIPTION:Event Description\nSCACPA & the SC Department of Revenue have partnered to offer members localized education. Click the course title to register for free on the SCDOR website!
URL:https://sc.cpa/event/lrtx0521-25-sc-dor-employer-withholding-tax-workshop-virtual/
CATEGORIES:Webinar
END:VEVENT
BEGIN:VEVENT
DTSTART;TZID=America/Detroit:20250522T130000
DTEND;TZID=America/Detroit:20250522T163000
DTSTAMP:20260423T164246
CREATED:20250331T224927Z
LAST-MODIFIED:20250521T203506Z
UID:10004686-1747918800-1747931400@sc.cpa
SUMMARY:(LIAA13/25) Common Yellow Book & Single Audit Deficiencies
DESCRIPTION:Event Description\nYellow Book and Single Audit engagements are considered must-select engagements for peer review. This course will review the common deficiencies noted by peer reviewers and federal agencies. We’ll focus on the requirements of Yellow Book independence\, CPE\, and reporting. We will also review deficiencies related to internal controls over compliance\, compliance testing\, and major program determination for Single Audits. We’ll close the course with a look at the deficiencies often identified in COVI D-related funds. \nObjectives\n\nIdentify common deficiencies in Yellow Book Engagements \nRecall the independence requirements in Yellow Book \nIdentify common single audit deficiencies \nRecall common deficiencies found related to COVID-19 funding
URL:https://sc.cpa/event/liaa13-25-common-yellow-book-single-audit-deficiencies/
CATEGORIES:Livestream
ORGANIZER;CN="Melisa Galasso":MAILTO:melisa@galassolearningsolutions.com
END:VEVENT
BEGIN:VEVENT
DTSTART;TZID=America/Detroit:20250529T130000
DTEND;TZID=America/Detroit:20250529T163000
DTSTAMP:20260423T164246
CREATED:20250401T005709Z
LAST-MODIFIED:20250528T162008Z
UID:10004969-1748523600-1748536200@sc.cpa
SUMMARY:(LIAA14/25) What's Going on at the FASB
DESCRIPTION:Event Description\nThe course will start with the Accounting Standard Updates effective in 2024 for public entities\, private entities\, and nonprofits. We will also review significant changes to common control lease arrangements issued early in 2024. After a break\, we switch our attention to the items coming down the pike\, including a look at the projects identified by the FASB’s Invitation to Comment: Agenda Consultation.
URL:https://sc.cpa/event/liaa14-25-whats-going-on-at-the-fasb/
CATEGORIES:Livestream
ORGANIZER;CN="Melisa Galasso":MAILTO:melisa@galassolearningsolutions.com
END:VEVENT
BEGIN:VEVENT
DTSTART;TZID=America/Detroit:20250530T083000
DTEND;TZID=America/Detroit:20250530T092000
DTSTAMP:20260423T164246
CREATED:20250331T230706Z
LAST-MODIFIED:20250529T162017Z
UID:10004725-1748593800-1748596800@sc.cpa
SUMMARY:(LIOT19/25) Creating & Sustaining A Winning Corporate Culture
DESCRIPTION:Event Description\n2025 Professional Development Program with Leadership SimplifiedRaise your bar of excellence by attending all or selected leadership development meetings. Provided virtually\, each session is high-impact and engaging. The program provides immediately implementable leadership tools/techniques that carry 1 or 1.4 credit hours. Each session will start at 8:30am and end at either 9:20am or 9:45am depending upon the amount of credit hours offered. \nA strong corporate culture drives success\, engagement\, and retention. This course teaches you how to build a mission-driven workplace\, effectively communicate company values\, and integrate recognition\, training\, and mentoring. Create a positive\, high-performance environment where employees feel motivated\, valued\, and aligned with your vision. \nObjectives\n\nHow to be mission-driven \nHow best to communicate the culture \nHow to weave in recognition & rewards to a culture \nHow to leverage training\, coaching & mentoring to strengthen your culture \nHow to create positive work environments \nHow to create a sense of urgency while fostering positive work relationships
URL:https://sc.cpa/event/liot19-25-creating-sustaining-a-winning-corporate-culture/
CATEGORIES:Livestream
ORGANIZER;CN="Doug Van Dyke%2C MBA%2C CSP":MAILTO:doug@leadershipsimplified.com
END:VEVENT
END:VCALENDAR