BEGIN:VCALENDAR
VERSION:2.0
PRODID:-//South Carolina Association of CPAs - ECPv6.15.20//NONSGML v1.0//EN
CALSCALE:GREGORIAN
METHOD:PUBLISH
X-ORIGINAL-URL:https://sc.cpa
X-WR-CALDESC:Events for South Carolina Association of CPAs
REFRESH-INTERVAL;VALUE=DURATION:PT1H
X-Robots-Tag:noindex
X-PUBLISHED-TTL:PT1H
BEGIN:VTIMEZONE
TZID:America/Detroit
BEGIN:DAYLIGHT
TZOFFSETFROM:-0500
TZOFFSETTO:-0400
TZNAME:EDT
DTSTART:20240310T070000
END:DAYLIGHT
BEGIN:STANDARD
TZOFFSETFROM:-0400
TZOFFSETTO:-0500
TZNAME:EST
DTSTART:20241103T060000
END:STANDARD
BEGIN:DAYLIGHT
TZOFFSETFROM:-0500
TZOFFSETTO:-0400
TZNAME:EDT
DTSTART:20250309T070000
END:DAYLIGHT
BEGIN:STANDARD
TZOFFSETFROM:-0400
TZOFFSETTO:-0500
TZNAME:EST
DTSTART:20251102T060000
END:STANDARD
BEGIN:DAYLIGHT
TZOFFSETFROM:-0500
TZOFFSETTO:-0400
TZNAME:EDT
DTSTART:20260308T070000
END:DAYLIGHT
BEGIN:STANDARD
TZOFFSETFROM:-0400
TZOFFSETTO:-0500
TZNAME:EST
DTSTART:20261101T060000
END:STANDARD
END:VTIMEZONE
BEGIN:VEVENT
DTSTART;TZID=America/Detroit:20250716T083000
DTEND;TZID=America/Detroit:20250716T120000
DTSTAMP:20260423T220333
CREATED:20250331T210117Z
LAST-MODIFIED:20250715T215006Z
UID:10004396-1752654600-1752667200@sc.cpa
SUMMARY:(LIET02/26) A Culture of Regulatory Ethics Making Ethics a Competitive Advantage
DESCRIPTION:Event Description\nIn a competitive market\, every company is looking for any way to differentiate themselves from their competition. While we often look to new markets and data for a competitive advantage\, ethics can be the factor that makes the biggest difference to customers\, employees\, and the public at large. Using surveys\, research\, case studies\, and examples\, this course will explore why the CPA credential and the AICPA Code of Professional Conduct is so different. We will discuss why CPAs are in a unique position of trust and how this can put their companies ahead. \nObjectives\n\nDescribe the relationship between financial success and ethics \nIdentify the characteristics that make the CPA credential unique compared to other financial designations \nCompare and contrast the AICPA Code of Professional Conduct to the ethics codes of other financial professionals \nState the steps in the AICPA Code of Professional Conduct Conceptual Framework Approach \nDescribe the key issues currently being addressed by the AICPA Professional Ethics Executive Committee \nState the key factors that influence employee behavior according to research \nIdentify the key factors of ethical communication that increase trust \nDescribe how the concept of ethical communication can be applied within the context of a difficult conversation
URL:https://sc.cpa/event/liet02-26-a-culture-of-regulatory-ethics-making-ethics-a-competitive-advantage/
CATEGORIES:Livestream
ORGANIZER;CN="David R. Peters%2C CPA%2C CFP%2C CLU%2C CPCU":MAILTO:david@petersprofessionaleducation.com
END:VEVENT
BEGIN:VEVENT
DTSTART;TZID=America/Detroit:20250716T130000
DTEND;TZID=America/Detroit:20250716T135000
DTSTAMP:20260423T220333
CREATED:20250331T205722Z
LAST-MODIFIED:20250715T163509Z
UID:10004364-1752670800-1752673800@sc.cpa
SUMMARY:(LITX03/26) Tax Research Part 1 - Fundamentals
DESCRIPTION:Event Description\nThe sheer number of sources of tax law can be overwhelming when you are first starting off as a practitioner. How do you differentiate between each one? What does each of them do? And what happens when there are conflicts between them? Through simple\, plain language explanations and examples\, this course gives the new practitioner an introduction to tax law. It talks about the types of primary authority and how they interact with each other. \nObjectives\n\nDescribe the different levels of authority in tax law \nDifferentiate between the different types of administrative authority in tax law \nIdentify the different courts that hear cases involving tax law
URL:https://sc.cpa/event/litx03-26-tax-research-part-1-fundamentals/
CATEGORIES:Livestream
ORGANIZER;CN="David R. Peters%2C CPA%2C CFP%2C CLU%2C CPCU":MAILTO:david@petersprofessionaleducation.com
END:VEVENT
END:VCALENDAR