BEGIN:VCALENDAR
VERSION:2.0
PRODID:-//South Carolina Association of CPAs - ECPv6.15.20//NONSGML v1.0//EN
CALSCALE:GREGORIAN
METHOD:PUBLISH
X-ORIGINAL-URL:https://sc.cpa
X-WR-CALDESC:Events for South Carolina Association of CPAs
REFRESH-INTERVAL;VALUE=DURATION:PT1H
X-Robots-Tag:noindex
X-PUBLISHED-TTL:PT1H
BEGIN:VTIMEZONE
TZID:America/Detroit
BEGIN:DAYLIGHT
TZOFFSETFROM:-0500
TZOFFSETTO:-0400
TZNAME:EDT
DTSTART:20240310T070000
END:DAYLIGHT
BEGIN:STANDARD
TZOFFSETFROM:-0400
TZOFFSETTO:-0500
TZNAME:EST
DTSTART:20241103T060000
END:STANDARD
BEGIN:DAYLIGHT
TZOFFSETFROM:-0500
TZOFFSETTO:-0400
TZNAME:EDT
DTSTART:20250309T070000
END:DAYLIGHT
BEGIN:STANDARD
TZOFFSETFROM:-0400
TZOFFSETTO:-0500
TZNAME:EST
DTSTART:20251102T060000
END:STANDARD
BEGIN:DAYLIGHT
TZOFFSETFROM:-0500
TZOFFSETTO:-0400
TZNAME:EDT
DTSTART:20260308T070000
END:DAYLIGHT
BEGIN:STANDARD
TZOFFSETFROM:-0400
TZOFFSETTO:-0500
TZNAME:EST
DTSTART:20261101T060000
END:STANDARD
END:VTIMEZONE
BEGIN:VEVENT
DTSTART;TZID=America/Detroit:20250702T083000
DTEND;TZID=America/Detroit:20250702T101000
DTSTAMP:20260425T063821
CREATED:20250331T205218Z
LAST-MODIFIED:20250701T235009Z
UID:10004307-1751445000-1751451000@sc.cpa
SUMMARY:(LIMG01/26) Improving Your Profits: Identifying Cost Cutting Opportunities
DESCRIPTION:Event Description\nPart of one’s duty as a CPA working in industry is to safeguard the assets of the organization. Cost cutting is one way to preserve assets and maintain a company’s competitive position in the industry. However\, what keeps us from ridding our organizations of unnecessary costs? In this course\, we will look at the factors that prevent our companies from being as streamlined as they could be. By using statistics and survey data\, we will attempt to show how to better negotiate and navigate budgeting and contracting decisions. We will also discuss financial statement analysis techniques\, benchmarking\, and cash flow management in an effort to better cut costs and maintain the long-run viability of an organization. \nObjectives\n\nList behavioral biases that prevent companies from being streamlined \nIdentify techniques that may be used to make cost cutting a part of the company’s culture and business strategy \nDescribe techniques that may be used to discern whether or not additional headcount is necessary \nDemonstrate vertical and horizontal financial statement analysis \nList key considerations when benchmarking against competitors \nDescribe contracting and negotiation techniques \nDiscuss the business cycle and how cash flow management changes during each stage
URL:https://sc.cpa/event/limg01-26-improving-your-profits-identifying-cost-cutting-opportunities/
CATEGORIES:Livestream
ORGANIZER;CN="David R. Peters%2C CPA%2C CFP%2C CLU%2C CPCU":MAILTO:david@petersprofessionaleducation.com
END:VEVENT
BEGIN:VEVENT
DTSTART;TZID=America/Detroit:20250702T102000
DTEND;TZID=America/Detroit:20250702T120000
DTSTAMP:20260425T063821
CREATED:20250331T205220Z
LAST-MODIFIED:20250701T162157Z
UID:10004308-1751451600-1751457600@sc.cpa
SUMMARY:(LIMG02/26) The Risk Management Process & Insurance Fundamentals
DESCRIPTION:Event Description\nWhether you are new to the risk management process or you are a seasoned pro\, it always comes back to the fundamentals. Just like any other industry\, insurance professionals have their own language. Through plain language and a commonsense approach\, this course explores the steps involved in the risk management process\, the elements of a good risk register\, as well what sections make up a standard insurance policy. Whether you are an insurance professional trying to brush up or you are simply trying to better understand the terms in your insurance policy\, this course provides a solid foundation for understanding risk management. \nObjectives\n\nRecall the three elements of a loss exposure \nIdentify the elements of a client’s risk register \nDistinguish between risk control and risk financing measures \nIndicate the different sections of an insurance policy
URL:https://sc.cpa/event/limg02-26-the-risk-management-process-insurance-fundamentals/
CATEGORIES:Livestream
ORGANIZER;CN="David R. Peters%2C CPA%2C CFP%2C CLU%2C CPCU":MAILTO:david@petersprofessionaleducation.com
END:VEVENT
END:VCALENDAR