BEGIN:VCALENDAR
VERSION:2.0
PRODID:-//South Carolina Association of CPAs - ECPv6.15.20//NONSGML v1.0//EN
CALSCALE:GREGORIAN
METHOD:PUBLISH
X-WR-CALNAME:South Carolina Association of CPAs
X-ORIGINAL-URL:https://sc.cpa
X-WR-CALDESC:Events for South Carolina Association of CPAs
REFRESH-INTERVAL;VALUE=DURATION:PT1H
X-Robots-Tag:noindex
X-PUBLISHED-TTL:PT1H
BEGIN:VTIMEZONE
TZID:America/Detroit
BEGIN:DAYLIGHT
TZOFFSETFROM:-0500
TZOFFSETTO:-0400
TZNAME:EDT
DTSTART:20240310T070000
END:DAYLIGHT
BEGIN:STANDARD
TZOFFSETFROM:-0400
TZOFFSETTO:-0500
TZNAME:EST
DTSTART:20241103T060000
END:STANDARD
BEGIN:DAYLIGHT
TZOFFSETFROM:-0500
TZOFFSETTO:-0400
TZNAME:EDT
DTSTART:20250309T070000
END:DAYLIGHT
BEGIN:STANDARD
TZOFFSETFROM:-0400
TZOFFSETTO:-0500
TZNAME:EST
DTSTART:20251102T060000
END:STANDARD
BEGIN:DAYLIGHT
TZOFFSETFROM:-0500
TZOFFSETTO:-0400
TZNAME:EDT
DTSTART:20260308T070000
END:DAYLIGHT
BEGIN:STANDARD
TZOFFSETFROM:-0400
TZOFFSETTO:-0500
TZNAME:EST
DTSTART:20261101T060000
END:STANDARD
END:VTIMEZONE
BEGIN:VEVENT
DTSTART;TZID=America/Detroit:20250701T083000
DTEND;TZID=America/Detroit:20250701T120000
DTSTAMP:20260423T202229
CREATED:20250331T210408Z
LAST-MODIFIED:20250630T203511Z
UID:10004426-1751358600-1751371200@sc.cpa
SUMMARY:(LITE01/26) AI for CPAs: How it Works and How to Apply It
DESCRIPTION:Event Description\nDemystify the complex world of generative AI in this informative session designed specifically for CPAs. We’ll break down the nuts and bolts of how generative AI works\, making the technical aspects accessible and relevant. Equip yourself with the foundational knowledge to leverage AI in your practice or business. \nObjectives\n\nRecognize the nature of generative AI and how it can be applied in the world of CPAs \nRecall key concepts and terminology associated with this rapidly evolving technology
URL:https://sc.cpa/event/lite01-26-ai-for-cpas-how-it-works-and-how-to-apply-it/
CATEGORIES:Livestream
ORGANIZER;CN="John Higgins%2C CITP":MAILTO:john@higginsadvisoryllc.com
END:VEVENT
END:VCALENDAR