BEGIN:VCALENDAR
VERSION:2.0
PRODID:-//South Carolina Association of CPAs - ECPv6.15.20//NONSGML v1.0//EN
CALSCALE:GREGORIAN
METHOD:PUBLISH
X-WR-CALNAME:South Carolina Association of CPAs
X-ORIGINAL-URL:https://sc.cpa
X-WR-CALDESC:Events for South Carolina Association of CPAs
REFRESH-INTERVAL;VALUE=DURATION:PT1H
X-Robots-Tag:noindex
X-PUBLISHED-TTL:PT1H
BEGIN:VTIMEZONE
TZID:America/Detroit
BEGIN:DAYLIGHT
TZOFFSETFROM:-0500
TZOFFSETTO:-0400
TZNAME:EDT
DTSTART:20240310T070000
END:DAYLIGHT
BEGIN:STANDARD
TZOFFSETFROM:-0400
TZOFFSETTO:-0500
TZNAME:EST
DTSTART:20241103T060000
END:STANDARD
BEGIN:DAYLIGHT
TZOFFSETFROM:-0500
TZOFFSETTO:-0400
TZNAME:EDT
DTSTART:20250309T070000
END:DAYLIGHT
BEGIN:STANDARD
TZOFFSETFROM:-0400
TZOFFSETTO:-0500
TZNAME:EST
DTSTART:20251102T060000
END:STANDARD
BEGIN:DAYLIGHT
TZOFFSETFROM:-0500
TZOFFSETTO:-0400
TZNAME:EDT
DTSTART:20260308T070000
END:DAYLIGHT
BEGIN:STANDARD
TZOFFSETFROM:-0400
TZOFFSETTO:-0500
TZNAME:EST
DTSTART:20261101T060000
END:STANDARD
END:VTIMEZONE
BEGIN:VEVENT
DTSTART;TZID=America/Detroit:20250605T083000
DTEND;TZID=America/Detroit:20250605T120000
DTSTAMP:20260423T202400
CREATED:20250401T010914Z
LAST-MODIFIED:20250604T203507Z
UID:10004971-1749112200-1749124800@sc.cpa
SUMMARY:(LIAA15/25) What's Changing in A&A for Government Entities
DESCRIPTION:Event Description\nThis course will start with the GASB standards effective in 2024\, focusing on GASB 94\, Public Private Partnerships and GASB 96\, Subscription Based IT Arrangements. We will then switch to the audit side of the house to examine the impact of the 2024 Compliance Supplement on Single Audits. We close with a look at common deficiencies found in audits of COVID-related funding.
URL:https://sc.cpa/event/liaa15-25-whats-changing-in-aa-for-government-entities/
CATEGORIES:Livestream
ORGANIZER;CN="Melisa Galasso":MAILTO:melisa@galassolearningsolutions.com
END:VEVENT
END:VCALENDAR